BEGIN:VCALENDAR
VERSION:2.0
PRODID:-//ChamberMaster//Event Calendar 2.0//EN
METHOD:PUBLISH
X-PUBLISHED-TTL:P1H
REFRESH-INTERVAL:P1H
CALSCALE:GREGORIAN
BEGIN:VTIMEZONE
TZID:America/Denver
BEGIN:DAYLIGHT
RRULE:FREQ=YEARLY;BYMONTH=3;BYDAY=2SU
DTSTART:20070101T000000
TZOFFSETFROM:-0700
TZOFFSETTO:-0600
TZNAME:Mountain Daylight Time
END:DAYLIGHT
BEGIN:STANDARD
RRULE:FREQ=YEARLY;BYMONTH=11;BYDAY=1SU
DTSTART:20070101T000000
TZOFFSETFROM:-0600
TZOFFSETTO:-0700
TZNAME:Mountain Standard Time
END:STANDARD
END:VTIMEZONE
BEGIN:VEVENT
DTSTART;TZID=America/Denver:20261003T100000
DTEND;TZID=America/Denver:20261003T110000
X-MICROSOFT-CDO-ALLDAYEVENT:FALSE
SUMMARY:2026 Walking Tour: Ghosts of Downtown (Oct. 3)
DESCRIPTION:Hear spooky stories from Colorado Springs' early days in this interactive tour featuring local storytellers from the Pikes Peak Writers Guild. Some stories are real\; some are fake   can you tell which is which? Hear untold stories of historic buildings and get to know the Ghosts of Downtown.$15 admission per person\, which includes a free beverage. Advance is required.Tickets are non-refundable. Given 24 hours' cancellation notice\, tickets may be transferred to a later tour date. One Saturday per month\, March through OctoberTour start locations vary\; see website for details.Schedule a private tour Private tours on a variety of topics are available for groups of 10 or more perfect for corporate teams\, walking groups\, social groups or friends day out. Call 719-886-0088 or email info@DowntownCS.com to schedule.
X-ALT-DESC;FMTTYPE=text/html:<!DOCTYPE html><html><head><title></title></head><body aria-disabled="false"><p>Hear spooky stories from Colorado Springs&rsquo\; early days in this interactive tour featuring local storytellers from the Pikes Peak Writers Guild. Some stories are real\; some are fake &mdash\; can you tell which is which? Hear untold stories of historic buildings and get to know the Ghosts of Downtown.</p><ul fr-original-style="" style="list-style-position: inside\;"><li>$15 admission per person\, which includes a free beverage.&nbsp\;</li><li>Advance is required.</li><li>Tickets are non-refundable.&nbsp\;<ul fr-original-style="" style="list-style-position: inside\;"><li>Given 24 hours&#39\; cancellation notice\, tickets may be transferred to a later tour date.&nbsp\;</li></ul></li><li>One Saturday per month\, March through October</li><li>Tour start locations vary\; see website for details.</li></ul><p><strong fr-original-style="" style="font-weight: 700\;">Schedule a private tour</strong>&nbsp\;</p><p>Private tours on a variety of topics are available for groups of 10 or more&mdash\;perfect for corporate teams\, walking groups\, social groups or friends day out. Call 719-886-0088 or email info@DowntownCS.com to schedule.</p></body></html>
LOCATION:Story Coffee\, 120 E Bijou St Colorado Springs CO 80903
UID:e.650.1438399
SEQUENCE:3
DTSTAMP:20260422T202934Z
URL:https://members.downtowncs.com/events/Details/2026-walking-tour-ghosts-of-downtown-oct-3-1702482?sourceTypeId=Hub
END:VEVENT
END:VCALENDAR
